BEGIN:VCALENDAR
VERSION:2.0
METHOD:PUBLISH
PRODID:-//Tendenci - The Open Source AMS for Associations//Tendenci Codeba
 se MIMEDIR//EN
BEGIN:VEVENT
DESCRIPTION:--- This iCal file does *NOT* confirm registration.\nEvent det
 ails subject to change. ---\nhttps://www.dpkpr.com/events/1/\n\nEvent Titl
 e: PRSA Houston Luncheon\nStart Date / Time: Aug 20, 2003 11:30 AM US/Cent
 ral\nLocation: Houston City Club\nSpeaker: \n\n\n--- This iCal file does *
 NOT* confirm registration.Event details subject to change. ---\n\n--- By T
 endenci - The Open Source AMS for Associations ---\n
UID:uid1@dpkpr.com
SUMMARY:PRSA Houston Luncheon
DTSTART:20030820T163000Z
DTEND:20030820T180000Z
CLASS:PUBLIC
PRIORITY:5
DTSTAMP:20260423T095536Z
TRANSP:OPAQUE
SEQUENCE:0
LOCATION:Houston City Club
X-ALT-DESC;FMTTYPE=text/html:<div>--- This iCal file does *NOT* confirm re
 gistration.Event details subject to change. ---</div><h1>Event Title: PRSA
  Houston Luncheon</h1><div>https://www.dpkpr.com/events/1/</div><br /><div
 >When: Aug 20, 2003 11:30 AM US/Central</div><div>Speaker: </div><br /><di
 v></div><div>--- This iCal file does *NOT* confirm registration.Event deta
 ils subject to change. ---</div><div>--- Tendenci&reg\; Software by <a hre
 f="https://www.tendenci.com">tendenci.com</a> - The Open Source AMS for As
 sociations ---</div>
BEGIN:VALARM
TRIGGER:-PT30M
ACTION:DISPLAY
DESCRIPTION:Reminder
END:VALARM
END:VEVENT
END:VCALENDAR
