BEGIN:VCALENDAR
VERSION:2.0
METHOD:PUBLISH
PRODID:-//Tendenci - The Open Source AMS for Associations//Tendenci Codeba
 se MIMEDIR//EN
BEGIN:VEVENT
DESCRIPTION:--- This iCal file does *NOT* confirm registration.\nEvent det
 ails subject to change. ---\nhttps://www.dpkpr.com/events/10/\n\nEvent Tit
 le: PRSA Houston Board Meeting\nStart Date / Time: Jul 21, 2004 10:30 AM U
 S/Central\nLocation: The Stone Kitchen\nSpeaker: \nGoogle\nhttp://maps.goo
 gle.com/maps?q=2415+Dunstan,Houston,TX\n\nForecast\nhttp://www.weather.com
 /weather/monthly/\n\n\n\n--- This iCal file does *NOT* confirm registratio
 n.Event details subject to change. ---\n\n--- By Tendenci - The Open Sourc
 e AMS for Associations ---\n
UID:uid10@dpkpr.com
SUMMARY:PRSA Houston Board Meeting
DTSTART:20040721T153000Z
DTEND:20040721T163000Z
CLASS:PUBLIC
PRIORITY:5
DTSTAMP:20260423T144554Z
TRANSP:OPAQUE
SEQUENCE:0
LOCATION:The Stone Kitchen
X-ALT-DESC;FMTTYPE=text/html:<div>--- This iCal file does *NOT* confirm re
 gistration.Event details subject to change. ---</div><h1>Event Title: PRSA
  Houston Board Meeting</h1><div>https://www.dpkpr.com/events/10/</div><br 
 /><div>When: Jul 21, 2004 10:30 AM US/Central</div><div>Speaker: </div><br
  />The Stone Kitchen<br />2415 Dunstan<br />Houston, TX<br /><div>http://m
 aps.google.com/maps?q=2415+Dunstan,Houston,TX</div><br /><div>Forecast: ht
 tp://www.weather.com/weather/monthly/</div><br /><br /><div></div><div>---
  This iCal file does *NOT* confirm registration.Event details subject to c
 hange. ---</div><div>--- Tendenci&reg\; Software by <a href="https://www.t
 endenci.com">tendenci.com</a> - The Open Source AMS for Associations ---</
 div>
BEGIN:VALARM
TRIGGER:-PT30M
ACTION:DISPLAY
DESCRIPTION:Reminder
END:VALARM
END:VEVENT
END:VCALENDAR
