BEGIN:VCALENDAR
VERSION:2.0
METHOD:PUBLISH
PRODID:-//Tendenci - The Open Source AMS for Associations//Tendenci Codeba
 se MIMEDIR//EN
BEGIN:VEVENT
DESCRIPTION:--- This iCal file does *NOT* confirm registration.\nEvent det
 ails subject to change. ---\nhttps://www.dpkpr.com/events/11/\n\nEvent Tit
 le: PRSA Houston Board Meeting\nStart Date / Time: May 19, 2004 10:30 AM U
 S/Central\nLocation: Houston City Club\nSpeaker: \nGoogle\nhttp://maps.goo
 gle.com/maps?q=Greenway+Plaza,Houston,Texas\n\nForecast\nhttp://www.weathe
 r.com/weather/monthly/\n\n\n\n--- This iCal file does *NOT* confirm regist
 ration.Event details subject to change. ---\n\n--- By Tendenci - The Open 
 Source AMS for Associations ---\n
UID:uid11@dpkpr.com
SUMMARY:PRSA Houston Board Meeting
DTSTART:20040519T153000Z
DTEND:20040519T183000Z
CLASS:PUBLIC
PRIORITY:5
DTSTAMP:20260423T160755Z
TRANSP:OPAQUE
SEQUENCE:0
LOCATION:Houston City Club
X-ALT-DESC;FMTTYPE=text/html:<div>--- This iCal file does *NOT* confirm re
 gistration.Event details subject to change. ---</div><h1>Event Title: PRSA
  Houston Board Meeting</h1><div>https://www.dpkpr.com/events/11/</div><br 
 /><div>When: May 19, 2004 10:30 AM US/Central</div><div>Speaker: </div><br
  />Houston City Club<br />Greenway Plaza<br />Houston, Texas<br /><div>htt
 p://maps.google.com/maps?q=Greenway+Plaza,Houston,Texas</div><br /><div>Fo
 recast: http://www.weather.com/weather/monthly/</div><br /><br /><div></di
 v><div>--- This iCal file does *NOT* confirm registration.Event details su
 bject to change. ---</div><div>--- Tendenci&reg\; Software by <a href="htt
 ps://www.tendenci.com">tendenci.com</a> - The Open Source AMS for Associat
 ions ---</div>
BEGIN:VALARM
TRIGGER:-PT30M
ACTION:DISPLAY
DESCRIPTION:Reminder
END:VALARM
END:VEVENT
END:VCALENDAR
