BEGIN:VCALENDAR
VERSION:2.0
METHOD:PUBLISH
PRODID:-//Tendenci - The Open Source AMS for Associations//Tendenci Codeba
 se MIMEDIR//EN
BEGIN:VEVENT
DESCRIPTION:--- This iCal file does *NOT* confirm registration.\nEvent det
 ails subject to change. ---\nhttps://www.dpkpr.com/events/12/\n\nEvent Tit
 le: Tools to Grow...Practical Tools to Help Strengthen Your Case, Grow You
 r Non-Profit''s Capacity & Measure Your Results\nStart Date / Time: May 07
 , 2004 09:30 AM US/Central\nLocation: YMCA Training Center\nSpeaker: \nGoo
 gle\nhttp://maps.google.com/maps?q=2122+E.+Governors+Circle,Houston,TX,770
 92\n\nForecast\nhttp://www.weather.com/weather/monthly/77092\n\nWorkshop D
 escription:The current economic climate presents a common challenge for no
 n-profits: How to sustain current funding and often do more with less?  \n
 Seminar attendees will learn about essential organizational tools to:\n-  
 Enable organizations to assess their own capacity to provide service-  Eva
 luate their efforts-  Develop and track their funding programs.\n In addit
 ion, attendees will learn how to use the Search Institute''s 40 Developmen
 tal Assets as an effective tool to "prove your case" for fundraising.\nCos
 t:ONLINE advance registration:  Members, $25, Non-Members, $35 &amp\; $18 
 for Student''s.  Students must show proper ID at the door. Day of Event re
 gistration:  Members $35, Non-Members, $40\nRegister online at www.regonli
 ne.com/?13598. Please RSVP by Wednesday, May 5th.  Reservations not accept
 ed beyond this date.  No shows will be billed for this event. Pre-payment 
 will be accepted by credit card.  Walk-in''s will not be guaranteed seatin
 g.  For questions or comments regarding online registration, email Michael
  Hagan at mhagan@ymcahouston.org\n\n--- This iCal file does *NOT* confirm 
 registration.Event details subject to change. ---\n\n--- By Tendenci - The
  Open Source AMS for Associations ---\n
UID:uid12@dpkpr.com
SUMMARY:Tools to Grow...Practical Tools to Help Strengthen Your Case, Grow Your Non-Profit''s Capacity & Measure Your Results
DTSTART:20040507T143000Z
DTEND:20040507T163000Z
CLASS:PUBLIC
PRIORITY:5
DTSTAMP:20260423T160726Z
TRANSP:OPAQUE
SEQUENCE:0
LOCATION:YMCA Training Center
X-ALT-DESC;FMTTYPE=text/html:<div>--- This iCal file does *NOT* confirm re
 gistration.Event details subject to change. ---</div><h1>Event Title: Tool
 s to Grow...Practical Tools to Help Strengthen Your Case, Grow Your Non-Pr
 ofit''s Capacity & Measure Your Results</h1><div>https://www.dpkpr.com/eve
 nts/12/</div><br /><div>When: May 07, 2004 09:30 AM US/Central</div><div>S
 peaker: </div><br />YMCA Training Center<br />2122 E. Governors Circle<br 
 />Houston, TX 77092<br /><div>http://maps.google.com/maps?q=2122+E.+Govern
 ors+Circle,Houston,TX,77092</div><br /><div>Forecast: http://www.weather.c
 om/weather/monthly/77092</div><br /><br /><div><P><FONT face=Verdana><STRO
 NG><FONT color=#339900>Workshop Description:<BR></FONT></STRONG>The curren
 t economic climate presents a common challenge for non-profits: How to&nbs
 p\;sustain current funding and often do more with less?&nbsp\;&nbsp\;</FON
 T></P> <P><FONT face=Verdana>Seminar attendees will learn about essential 
 organizational tools to:</FONT></P><FONT face=Verdana> <P>-&nbsp\; Enable 
 organizations to assess their own capacity to provide service<BR><BR>-&nbs
 p\; Evaluate their efforts<BR><BR>-&nbsp\; Develop and track their funding
  programs.</P> <P>&nbsp\;In addition, attendees will learn how to use the 
 Search Institute''s 40 Developmental Assets as an effective tool to "prove
 <EM> </EM>your case" for fundraising.</P> <P></FONT><FONT face=Verdana><FO
 NT color=#339900><STRONG>Cost:</STRONG><BR></FONT><STRONG>ONLINE advance r
 egistration</STRONG>:&nbsp\; Members, $25, Non-Members, $35 &amp\; $18 for
  Student''s.&nbsp\; Students must show proper ID at the door. <STRONG>Day 
 of Event registration</STRONG>:&nbsp\; Members $35, Non-Members, $40</FONT
 ></P> <P><FONT face=Verdana>Register online at <A href="http://cl.extm.us/
 ?fe9d12767567057f75-fe36167075660674751373">www.regonline.com/?13598.</A><
 /FONT><FONT face=Verdana> Please RSVP by Wednesday, May 5th.&nbsp\; Reserv
 ations not accepted beyond this date.&nbsp\; No shows will be billed for t
 his event. Pre-payment will be accepted by credit card.&nbsp\; Walk-in''s 
 will not be guaranteed seating.&nbsp\; For questions or comments regarding
  online registration, email Michael Hagan at </FONT><A href="mailto:mhagan
 @ymcahouston.org"><FONT face=Verdana>mhagan@ymcahouston.org</FONT></A></P>
 </div><div>--- This iCal file does *NOT* confirm registration.Event detail
 s subject to change. ---</div><div>--- Tendenci&reg\; Software by <a href=
 "https://www.tendenci.com">tendenci.com</a> - The Open Source AMS for Asso
 ciations ---</div>
BEGIN:VALARM
TRIGGER:-PT30M
ACTION:DISPLAY
DESCRIPTION:Reminder
END:VALARM
END:VEVENT
END:VCALENDAR
