BEGIN:VCALENDAR
VERSION:2.0
METHOD:PUBLISH
PRODID:-//Tendenci - The Open Source AMS for Associations//Tendenci Codeba
 se MIMEDIR//EN
BEGIN:VEVENT
DESCRIPTION:--- This iCal file does *NOT* confirm registration.\nEvent det
 ails subject to change. ---\nhttps://www.dpkpr.com/events/13/\n\nEvent Tit
 le: PRSA Silver Anvil Award Ceremony\nStart Date / Time: Jun 03, 2004 19:0
 0 PM US/Eastern\nLocation: Equitable Towers\nSpeaker: \n\n\n--- This iCal 
 file does *NOT* confirm registration.Event details subject to change. ---\
 n\n--- By Tendenci - The Open Source AMS for Associations ---\n
UID:uid13@dpkpr.com
SUMMARY:PRSA Silver Anvil Award Ceremony
DTSTART:20040603T230000Z
DTEND:20040604T013000Z
CLASS:PUBLIC
PRIORITY:5
DTSTAMP:20260423T110607Z
TRANSP:OPAQUE
SEQUENCE:0
LOCATION:Equitable Towers
X-ALT-DESC;FMTTYPE=text/html:<div>--- This iCal file does *NOT* confirm re
 gistration.Event details subject to change. ---</div><h1>Event Title: PRSA
  Silver Anvil Award Ceremony</h1><div>https://www.dpkpr.com/events/13/</di
 v><br /><div>When: Jun 03, 2004 19:00 PM US/Eastern</div><div>Speaker: </d
 iv><br /><div></div><div>--- This iCal file does *NOT* confirm registratio
 n.Event details subject to change. ---</div><div>--- Tendenci&reg\; Softwa
 re by <a href="https://www.tendenci.com">tendenci.com</a> - The Open Sourc
 e AMS for Associations ---</div>
BEGIN:VALARM
TRIGGER:-PT30M
ACTION:DISPLAY
DESCRIPTION:Reminder
END:VALARM
END:VEVENT
END:VCALENDAR
