BEGIN:VCALENDAR
VERSION:2.0
METHOD:PUBLISH
PRODID:-//Tendenci - The Open Source AMS for Associations//Tendenci Codeba
 se MIMEDIR//EN
BEGIN:VEVENT
DESCRIPTION:--- This iCal file does *NOT* confirm registration.\nEvent det
 ails subject to change. ---\nhttps://www.dpkpr.com/events/15/\n\nEvent Tit
 le: Building Community Relationships: Gaining and Maintaining Public Conse
 nt\nStart Date / Time: May 27, 2004 12:00 PM US/Central\nLocation: An Inte
 ractive Tele/Webseminar\nSpeaker: \nIn today''s environment of skepticism 
 and public suspicion about business and business leadership, for most busi
 nesses and large organizations gaining and maintaining public consent to o
 perate, build, expand or simply to keep operating has become an ongoing to
 p management concern. The community relationships needed to achieve consen
 t require engagement on many levels with those directly affected publics a
 nd audiences.\n \nNew ground is being broken by Wal-Mart and others to go 
 directly to voters and around decision-makers when the public process seem
 s designed to stop growth or progress rather than consider, evaluate and j
 udge.\n \nThis seminar will outline the practical necessities and action e
 lements that lead to gaining and maintaining public consent:\n- Seven elem
 ents of highly effective community relations programs\n- Community communi
 cation realities\n- How to build community trust\n- Core value sensitivity
 \n- Messages and behaviors that kill relationships\n- How to identify what
  your publics are concerned about\n- Ten ways to lose trust and credibilit
 y\n- Communication techniques that reduce the media''s power\n<SPAN\n\n---
  This iCal file does *NOT* confirm registration.Event details subject to c
 hange. ---\n\n--- By Tendenci - The Open Source AMS for Associations ---\n
UID:uid15@dpkpr.com
SUMMARY:Building Community Relationships: Gaining and Maintaining Public Consent
DTSTART:20040527T170000Z
DTEND:20040527T183000Z
CLASS:PUBLIC
PRIORITY:5
DTSTAMP:20260423T120742Z
TRANSP:OPAQUE
SEQUENCE:0
LOCATION:An Interactive Tele/Webseminar
X-ALT-DESC;FMTTYPE=text/html:<div>--- This iCal file does *NOT* confirm re
 gistration.Event details subject to change. ---</div><h1>Event Title: Buil
 ding Community Relationships: Gaining and Maintaining Public Consent</h1><
 div>https://www.dpkpr.com/events/15/</div><br /><div>When: May 27, 2004 12
 :00 PM US/Central</div><div>Speaker: </div><br /><div><P class=MsoBodyText
  style="MARGIN: 0in 0in 0pt"><SPAN style="FONT-SIZE: 10pt\; FONT-FAMILY: A
 rial">In today''s environment of skepticism and public suspicion about bus
 iness and business leadership, for most businesses and large organizations
  gaining and maintaining public consent to operate, build, expand or simpl
 y to keep operating has become an ongoing top management concern. The comm
 unity relationships needed to achieve consent require engagement on many l
 evels with those directly affected publics and audiences.<?xml:namespace p
 refix = o ns = "urn:schemas-microsoft-com:office:office" /><o:p></o:p></SP
 AN></P> <P class=MsoNormal style="MARGIN: 0in 0in 0pt\; mso-layout-grid-al
 ign: none"><SPAN style="FONT-SIZE: 10pt\; FONT-FAMILY: Arial"><o:p>&nbsp\;
 </o:p></SPAN></P> <P class=MsoNormal style="MARGIN: 0in 0in 0pt\; mso-layo
 ut-grid-align: none"><SPAN style="FONT-SIZE: 10pt\; FONT-FAMILY: Arial">Ne
 w ground is being broken by Wal-Mart and others to go directly to voters a
 nd around decision-makers when the public process seems designed to stop g
 rowth or progress rather than consider, evaluate and judge.<o:p></o:p></SP
 AN></P> <P class=MsoNormal style="MARGIN: 0in 0in 0pt\; mso-layout-grid-al
 ign: none"><SPAN style="FONT-SIZE: 10pt\; FONT-FAMILY: Arial"><o:p>&nbsp\;
 </o:p></SPAN></P> <P class=MsoNormal style="MARGIN: 0in 0in 0pt\; mso-layo
 ut-grid-align: none"><SPAN style="FONT-SIZE: 10pt\; FONT-FAMILY: Arial">Th
 is seminar will outline the practical necessities and action elements that
  lead to gaining and maintaining public consent:<o:p></o:p></SPAN></P> <P 
 class=MsoNormal style="MARGIN: 0in 0in 0pt\; mso-layout-grid-align: none">
 <SPAN style="FONT-SIZE: 10pt\; FONT-FAMILY: Arial">- Seven elements of hig
 hly effective community relations programs<o:p></o:p></SPAN></P> <P class=
 MsoNormal style="MARGIN: 0in 0in 0pt\; mso-layout-grid-align: none"><SPAN 
 style="FONT-SIZE: 10pt\; FONT-FAMILY: Arial">- Community communication rea
 lities<o:p></o:p></SPAN></P> <P class=MsoNormal style="MARGIN: 0in 0in 0pt
 \; mso-layout-grid-align: none"><SPAN style="FONT-SIZE: 10pt\; FONT-FAMILY
 : Arial">- How to build community trust<o:p></o:p></SPAN></P> <P class=Mso
 Normal style="MARGIN: 0in 0in 0pt\; mso-layout-grid-align: none"><SPAN sty
 le="FONT-SIZE: 10pt\; FONT-FAMILY: Arial">- Core value sensitivity<o:p></o
 :p></SPAN></P> <P class=MsoNormal style="MARGIN: 0in 0in 0pt\; mso-layout-
 grid-align: none"><SPAN style="FONT-SIZE: 10pt\; FONT-FAMILY: Arial">- Mes
 sages and behaviors that kill relationships<o:p></o:p></SPAN></P> <P class
 =MsoNormal style="MARGIN: 0in 0in 0pt\; mso-layout-grid-align: none"><SPAN
  style="FONT-SIZE: 10pt\; FONT-FAMILY: Arial">- How to identify what your 
 publics are concerned about<o:p></o:p></SPAN></P> <P class=MsoNormal style
 ="MARGIN: 0in 0in 0pt\; mso-layout-grid-align: none"><SPAN style="FONT-SIZ
 E: 10pt\; FONT-FAMILY: Arial">- Ten ways to lose trust and credibility<o:p
 ></o:p></SPAN></P> <P class=MsoNormal style="MARGIN: 0in 0in 0pt\; mso-lay
 out-grid-align: none"><SPAN style="FONT-SIZE: 10pt\; FONT-FAMILY: Arial">-
  Communication techniques that reduce the media''s power<o:p></o:p></SPAN>
 </P> <P class=MsoNormal style="MARGIN: 0in 0in 0pt\; mso-layout-grid-align
 : none"><SPAN</div><div>--- This iCal file does *NOT* confirm registration
 .Event details subject to change. ---</div><div>--- Tendenci&reg\; Softwar
 e by <a href="https://www.tendenci.com">tendenci.com</a> - The Open Source
  AMS for Associations ---</div>
BEGIN:VALARM
TRIGGER:-PT30M
ACTION:DISPLAY
DESCRIPTION:Reminder
END:VALARM
END:VEVENT
END:VCALENDAR
