BEGIN:VCALENDAR
VERSION:2.0
METHOD:PUBLISH
PRODID:-//Tendenci - The Open Source AMS for Associations//Tendenci Codeba
 se MIMEDIR//EN
BEGIN:VEVENT
DESCRIPTION:--- This iCal file does *NOT* confirm registration.\nEvent det
 ails subject to change. ---\nhttps://www.dpkpr.com/events/16/\n\nEvent Tit
 le: PRSA Leadership Rally\nStart Date / Time: Jun 04, 2004 08:30 AM US/Cen
 tral\nLocation: New York City\nSpeaker: \n\n\n--- This iCal file does *NOT
 * confirm registration.Event details subject to change. ---\n\n--- By Tend
 enci - The Open Source AMS for Associations ---\n
UID:uid16@dpkpr.com
SUMMARY:PRSA Leadership Rally
DTSTART:20040604T133000Z
DTEND:20040605T223000Z
CLASS:PUBLIC
PRIORITY:5
DTSTAMP:20260423T120709Z
TRANSP:OPAQUE
SEQUENCE:0
LOCATION:New York City
X-ALT-DESC;FMTTYPE=text/html:<div>--- This iCal file does *NOT* confirm re
 gistration.Event details subject to change. ---</div><h1>Event Title: PRSA
  Leadership Rally</h1><div>https://www.dpkpr.com/events/16/</div><br /><di
 v>When: Jun 04, 2004 08:30 AM US/Central</div><div>Speaker: </div><br /><d
 iv></div><div>--- This iCal file does *NOT* confirm registration.Event det
 ails subject to change. ---</div><div>--- Tendenci&reg\; Software by <a hr
 ef="https://www.tendenci.com">tendenci.com</a> - The Open Source AMS for A
 ssociations ---</div>
BEGIN:VALARM
TRIGGER:-PT30M
ACTION:DISPLAY
DESCRIPTION:Reminder
END:VALARM
END:VEVENT
END:VCALENDAR
