BEGIN:VCALENDAR
VERSION:2.0
METHOD:PUBLISH
PRODID:-//Tendenci - The Open Source AMS for Associations//Tendenci Codeba
 se MIMEDIR//EN
BEGIN:VEVENT
DESCRIPTION:--- This iCal file does *NOT* confirm registration.\nEvent det
 ails subject to change. ---\nhttps://www.dpkpr.com/events/2/\n\nEvent Titl
 e: PRSA Media Day\nStart Date / Time: Sep 24, 2003 08:30 AM US/Central\nLo
 cation: Check www.prsahouston.org\nSpeaker: \nDon''t miss this terrific al
 l-day or half-day professional development  opportunity.\n\n--- This iCal 
 file does *NOT* confirm registration.Event details subject to change. ---\
 n\n--- By Tendenci - The Open Source AMS for Associations ---\n
UID:uid2@dpkpr.com
SUMMARY:PRSA Media Day
DTSTART:20030924T133000Z
DTEND:20030924T223000Z
CLASS:PUBLIC
PRIORITY:5
DTSTAMP:20260423T120603Z
TRANSP:OPAQUE
SEQUENCE:0
LOCATION:Check www.prsahouston.org
X-ALT-DESC;FMTTYPE=text/html:<div>--- This iCal file does *NOT* confirm re
 gistration.Event details subject to change. ---</div><h1>Event Title: PRSA
  Media Day</h1><div>https://www.dpkpr.com/events/2/</div><br /><div>When: 
 Sep 24, 2003 08:30 AM US/Central</div><div>Speaker: </div><br /><div>Don''
 t miss this terrific all-day or half-day professional development  opportu
 nity.</div><div>--- This iCal file does *NOT* confirm registration.Event d
 etails subject to change. ---</div><div>--- Tendenci&reg\; Software by <a 
 href="https://www.tendenci.com">tendenci.com</a> - The Open Source AMS for
  Associations ---</div>
BEGIN:VALARM
TRIGGER:-PT30M
ACTION:DISPLAY
DESCRIPTION:Reminder
END:VALARM
END:VEVENT
END:VCALENDAR
