BEGIN:VCALENDAR
VERSION:2.0
METHOD:PUBLISH
PRODID:-//Tendenci - The Open Source AMS for Associations//Tendenci Codeba
 se MIMEDIR//EN
BEGIN:VEVENT
DESCRIPTION:--- This iCal file does *NOT* confirm registration.\nEvent det
 ails subject to change. ---\nhttps://www.dpkpr.com/events/20/\n\nEvent Tit
 le: IABC Luncheon: Web Marketing Fundamentals\nStart Date / Time: Jun 10, 
 2004 11:30 AM US/Central\nLocation: La Griglia Restaurant\nSpeaker: \nGoog
 le\nhttp://maps.google.com/maps?q=2002+West+Gray,Houston,Texas\n\nForecast
 \nhttp://www.weather.com/weather/monthly/\n\nDoes the home page of your cl
 ient’s Web site have what it takes to catch and keep the interest of tod
 ay’s smart and impatient Internet users? Is your client listed prominent
 ly when users Google? What about your Web site? If you think your business
  is too small to get noticed on the Web, Ed Schipul says, “Think again.
 ”\nAt our June ESIG meeting, Mr. Schipul will discuss ways you can achie
 ve marketing success on the Web by giving users what they want, on their t
 erms, immediately and with humility. He’ll give an overview profile of t
 oday’s Web consumer and present the 10 marketing elements that no home p
 age should be without.\nIf you dare, send your URL to Schipul (eschipul@sc
 hipul.com) for possible home page critique during the presentation.Founded
  in 1995 as a Houston Web design company, Schipul, The Web Marketing Compa
 ny, now combines marketing fundamentals with design elements to allow clie
 nts to manage and grow their organizations and businesses online. The Schi
 pul team consists of talented design and communications professionals, a c
 ustomer service-oriented support team and experienced programmers. \n\n---
  This iCal file does *NOT* confirm registration.Event details subject to c
 hange. ---\n\n--- By Tendenci - The Open Source AMS for Associations ---\n
UID:uid20@dpkpr.com
SUMMARY:IABC Luncheon: Web Marketing Fundamentals
DTSTART:20040610T163000Z
DTEND:20040610T183000Z
CLASS:PUBLIC
PRIORITY:5
DTSTAMP:20260423T120725Z
TRANSP:OPAQUE
SEQUENCE:0
LOCATION:La Griglia Restaurant
X-ALT-DESC;FMTTYPE=text/html:<div>--- This iCal file does *NOT* confirm re
 gistration.Event details subject to change. ---</div><h1>Event Title: IABC
  Luncheon: Web Marketing Fundamentals</h1><div>https://www.dpkpr.com/event
 s/20/</div><br /><div>When: Jun 10, 2004 11:30 AM US/Central</div><div>Spe
 aker: </div><br />La Griglia Restaurant<br />2002 West Gray<br />Houston, 
 Texas<br /><div>http://maps.google.com/maps?q=2002+West+Gray,Houston,Texas
 </div><br /><div>Forecast: http://www.weather.com/weather/monthly/</div><b
 r /><br /><div><P class=MsoBodyText><SPAN class=serif1><SPAN style="FONT-S
 IZE: 11pt\; FONT-FAMILY: Verdana">Does the home page of your client’s We
 b site have what it takes to catch and keep the interest of today’s smar
 t and impatient Internet users? Is your client listed prominently when use
 rs Google? What about your Web site? If you think your business is too sma
 ll to get noticed on the Web, Ed Schipul says, “Think again.”</SPAN></
 SPAN></P> <P class=MsoBodyText><SPAN class=serif1><SPAN style="FONT-SIZE: 
 11pt\; FONT-FAMILY: Verdana">At our June ESIG meeting, Mr. Schipul will di
 scuss ways you can achieve marketing success on the Web by giving users wh
 at they want, on their terms, immediately and with humility. He’ll give 
 an overview profile of today’s Web consumer and present the 10 marketing
  elements that no home page should be without.</SPAN></SPAN></P> <P class=
 MsoBodyText><SPAN class=serif1><SPAN style="FONT-SIZE: 11pt\; FONT-FAMILY:
  Verdana">If you dare, send your URL to Schipul (<A style="FONT-SIZE: 11pt
 \; FONT-FAMILY: Verdana" href="mailto:eschipul@schipul.com">eschipul@schip
 ul.com</A>) for possible home page critique during the presentation.<BR><B
 R><!>Founded in 1995 as a Houston Web design company, <B>Schipul, The Web 
 Marketing Company</B>, now combines marketing fundamentals with design ele
 ments to allow clients to manage and grow their organizations and business
 es online. The Schipul team consists of talented design and communications
  professionals, a customer service-oriented support team and experienced p
 rogrammers. </SPAN></SPAN></P></div><div>--- This iCal file does *NOT* con
 firm registration.Event details subject to change. ---</div><div>--- Tende
 nci&reg\; Software by <a href="https://www.tendenci.com">tendenci.com</a> 
 - The Open Source AMS for Associations ---</div>
BEGIN:VALARM
TRIGGER:-PT30M
ACTION:DISPLAY
DESCRIPTION:Reminder
END:VALARM
END:VEVENT
END:VCALENDAR
