BEGIN:VCALENDAR
VERSION:2.0
METHOD:PUBLISH
PRODID:-//Tendenci - The Open Source AMS for Associations//Tendenci Codeba
 se MIMEDIR//EN
BEGIN:VEVENT
DESCRIPTION:--- This iCal file does *NOT* confirm registration.\nEvent det
 ails subject to change. ---\nhttps://www.dpkpr.com/events/21/\n\nEvent Tit
 le: 2004 PRSA Houston Excalibur Awards\nStart Date / Time: Jun 17, 2004 19
 :00 PM US/Central\nLocation: Hotel Icon\nSpeaker: \n\n\n--- This iCal file
  does *NOT* confirm registration.Event details subject to change. ---\n\n-
 -- By Tendenci - The Open Source AMS for Associations ---\n
UID:uid21@dpkpr.com
SUMMARY:2004 PRSA Houston Excalibur Awards
DTSTART:20040618T000000Z
DTEND:20040618T020000Z
CLASS:PUBLIC
PRIORITY:5
DTSTAMP:20260423T095430Z
TRANSP:OPAQUE
SEQUENCE:0
LOCATION:Hotel Icon
X-ALT-DESC;FMTTYPE=text/html:<div>--- This iCal file does *NOT* confirm re
 gistration.Event details subject to change. ---</div><h1>Event Title: 2004
  PRSA Houston Excalibur Awards</h1><div>https://www.dpkpr.com/events/21/</
 div><br /><div>When: Jun 17, 2004 19:00 PM US/Central</div><div>Speaker: <
 /div><br /><div></div><div>--- This iCal file does *NOT* confirm registrat
 ion.Event details subject to change. ---</div><div>--- Tendenci&reg\; Soft
 ware by <a href="https://www.tendenci.com">tendenci.com</a> - The Open Sou
 rce AMS for Associations ---</div>
BEGIN:VALARM
TRIGGER:-PT30M
ACTION:DISPLAY
DESCRIPTION:Reminder
END:VALARM
END:VEVENT
END:VCALENDAR
