BEGIN:VCALENDAR
VERSION:2.0
METHOD:PUBLISH
PRODID:-//Tendenci - The Open Source AMS for Associations//Tendenci Codeba
 se MIMEDIR//EN
BEGIN:VEVENT
DESCRIPTION:--- This iCal file does *NOT* confirm registration.\nEvent det
 ails subject to change. ---\nhttps://www.dpkpr.com/events/22/\n\nEvent Tit
 le: PRSA Houston Luncheon\nStart Date / Time: Jul 15, 2004 11:30 AM US/Cen
 tral\nLocation: Houston Hilton Americas\nSpeaker: \n\n\n--- This iCal file
  does *NOT* confirm registration.Event details subject to change. ---\n\n-
 -- By Tendenci - The Open Source AMS for Associations ---\n
UID:uid22@dpkpr.com
SUMMARY:PRSA Houston Luncheon
DTSTART:20040715T163000Z
DTEND:20040715T183000Z
CLASS:PUBLIC
PRIORITY:5
DTSTAMP:20260423T095531Z
TRANSP:OPAQUE
SEQUENCE:0
LOCATION:Houston Hilton Americas
X-ALT-DESC;FMTTYPE=text/html:<div>--- This iCal file does *NOT* confirm re
 gistration.Event details subject to change. ---</div><h1>Event Title: PRSA
  Houston Luncheon</h1><div>https://www.dpkpr.com/events/22/</div><br /><di
 v>When: Jul 15, 2004 11:30 AM US/Central</div><div>Speaker: </div><br /><d
 iv></div><div>--- This iCal file does *NOT* confirm registration.Event det
 ails subject to change. ---</div><div>--- Tendenci&reg\; Software by <a hr
 ef="https://www.tendenci.com">tendenci.com</a> - The Open Source AMS for A
 ssociations ---</div>
BEGIN:VALARM
TRIGGER:-PT30M
ACTION:DISPLAY
DESCRIPTION:Reminder
END:VALARM
END:VEVENT
END:VCALENDAR
