BEGIN:VCALENDAR
VERSION:2.0
METHOD:PUBLISH
PRODID:-//Tendenci - The Open Source AMS for Associations//Tendenci Codeba
 se MIMEDIR//EN
BEGIN:VEVENT
DESCRIPTION:--- This iCal file does *NOT* confirm registration.\nEvent det
 ails subject to change. ---\nhttps://www.dpkpr.com/events/24/\n\nEvent Tit
 le: Public Relations Society of America 2004 International Conference\nSta
 rt Date / Time: Oct 24, 2004 00:00 AM US/Central\nLocation: New York Hilto
 n & Towers\nSpeaker: \nGoogle\nhttp://maps.google.com/maps?q=1335+Avenue+o
 f+the+Americas,New York,New York,10019\n\nForecast\nhttp://www.weather.com
 /weather/monthly/10019\n\nTwo Master Classes - Extended, in-depth workshop
 s led by industry experts:\n\n"A Business Simulation: The Trouble at Globa
 l Industries" \n"Internet Marketing Made Simple"\nChoose from 37 Professio
 nal Development Workshops plus join us for a whirlwind opening night gala 
 at the glittering jewel in New York City’s cultural crown, the renowned 
 Lincoln Center. Delight in the artistic ambience, catch up with your fello
 w professionals and enjoy gourmet viands and vintages. Then savor performa
 nces from some very special guests representing New York City’s artistic
  and celebrity community.\n\n--- This iCal file does *NOT* confirm registr
 ation.Event details subject to change. ---\n\n--- By Tendenci - The Open S
 ource AMS for Associations ---\n
UID:uid24@dpkpr.com
SUMMARY:Public Relations Society of America 2004 International Conference
DTSTART:20041024T050000Z
DTEND:20041024T223000Z
CLASS:PUBLIC
PRIORITY:5
DTSTAMP:20260423T095609Z
TRANSP:OPAQUE
SEQUENCE:0
LOCATION:New York Hilton & Towers
X-ALT-DESC;FMTTYPE=text/html:<div>--- This iCal file does *NOT* confirm re
 gistration.Event details subject to change. ---</div><h1>Event Title: Publ
 ic Relations Society of America 2004 International Conference</h1><div>htt
 ps://www.dpkpr.com/events/24/</div><br /><div>When: Oct 24, 2004 00:00 AM 
 US/Central</div><div>Speaker: </div><br />New York Hilton & Towers<br />13
 35 Avenue of the Americas<br />New York, New York 10019<br /><div>http://m
 aps.google.com/maps?q=1335+Avenue+of+the+Americas,New York,New York,10019<
 /div><br /><div>Forecast: http://www.weather.com/weather/monthly/10019</di
 v><br /><br /><div><P><FONT face=Arial>Two Master Classes&nbsp\;- Extended
 , in-depth workshops led by industry experts:<BR></P></FONT><FONT face=Ari
 al><STRONG></STRONG></FONT> <UL> <LI><FONT face=Arial><STRONG>"A Business 
 Simulation: The Trouble at Global Industries"</STRONG></FONT>  <LI><FONT f
 ace=Arial><STRONG>"Internet Marketing Made Simple"</STRONG></FONT></LI></U
 L> <P><FONT face=Arial>Choose from 37 Professional Development Workshops <
 EM>plus </EM>join us for a whirlwind opening night gala at the glittering 
 jewel in New York City’s cultural crown, the renowned <STRONG>Lincoln Ce
 nter</STRONG>. Delight in the artistic ambience, catch up with your fellow
  professionals and enjoy gourmet viands and vintages. Then savor performan
 ces from some very special guests representing New York City’s artistic 
 and celebrity community.</FONT></P></div><div>--- This iCal file does *NOT
 * confirm registration.Event details subject to change. ---</div><div>--- 
 Tendenci&reg\; Software by <a href="https://www.tendenci.com">tendenci.com
 </a> - The Open Source AMS for Associations ---</div>
BEGIN:VALARM
TRIGGER:-PT30M
ACTION:DISPLAY
DESCRIPTION:Reminder
END:VALARM
END:VEVENT
END:VCALENDAR
