BEGIN:VCALENDAR
VERSION:2.0
METHOD:PUBLISH
PRODID:-//Tendenci - The Open Source AMS for Associations//Tendenci Codeba
 se MIMEDIR//EN
BEGIN:VEVENT
DESCRIPTION:--- This iCal file does *NOT* confirm registration.\nEvent det
 ails subject to change. ---\nhttps://www.dpkpr.com/events/25/\n\nEvent Tit
 le: Public Relations Society of America 2004 International Conference\nSta
 rt Date / Time: Oct 25, 2004 00:00 AM US/Central\nLocation: New York Hilto
 n & Towers\nSpeaker: \nGoogle\nhttp://maps.google.com/maps?q=1335+Avenue+o
 f+the+Americas,New York,New York,10019\n\nForecast\nhttp://www.weather.com
 /weather/monthly/10019\n\n\nTwo Master Classes - Extended, in-depth worksh
 ops led by industry experts:\n\n\n"A Marketing Approach to PR Planning"\n\
 n"Awake the Creative Genius Within: The Secret to Building the Big Idea"\n
 Choose from 58 Professional Development Workshops plus Meet the National E
 ntertainment Media Panel with Jan Schillay, senior producer, "Live! With R
 egis and Kelly," Eliana R. Salzhauer, talent executive, "Late Show with Da
 vid Letterman," Tommy Crudup, talent executive, "Tony Danza Show"A senior 
 producer, NBC''s the "Today Show," and Moderator: Jeanne Salvatore, 2004 P
 RSA Int''l Conference Host Committee Chair, Vice President Consumer Affair
 s, Insurance Information Institute.\n\n--- This iCal file does *NOT* confi
 rm registration.Event details subject to change. ---\n\n--- By Tendenci - 
 The Open Source AMS for Associations ---\n
UID:uid25@dpkpr.com
SUMMARY:Public Relations Society of America 2004 International Conference
DTSTART:20041025T050000Z
DTEND:20041025T223000Z
CLASS:PUBLIC
PRIORITY:5
DTSTAMP:20260423T095535Z
TRANSP:OPAQUE
SEQUENCE:0
LOCATION:New York Hilton & Towers
X-ALT-DESC;FMTTYPE=text/html:<div>--- This iCal file does *NOT* confirm re
 gistration.Event details subject to change. ---</div><h1>Event Title: Publ
 ic Relations Society of America 2004 International Conference</h1><div>htt
 ps://www.dpkpr.com/events/25/</div><br /><div>When: Oct 25, 2004 00:00 AM 
 US/Central</div><div>Speaker: </div><br />New York Hilton & Towers<br />13
 35 Avenue of the Americas<br />New York, New York 10019<br /><div>http://m
 aps.google.com/maps?q=1335+Avenue+of+the+Americas,New York,New York,10019<
 /div><br /><div>Forecast: http://www.weather.com/weather/monthly/10019</di
 v><br /><br /><div><FONT face=Arial> <P class=MsoNormal style="MARGIN: 0in
  0in 0pt"><FONT face=Arial size=2>Two Master Classes&nbsp\;- Extended, in-
 depth workshops led by industry experts:</FONT></P><FONT face=Arial size=2
 > <UL> <LI> <DIV class=MsoNormal style="MARGIN: 0in 0in 0pt"><STRONG>"A Ma
 rketing Approach to PR Planning"</STRONG></DIV></LI> <LI> <DIV class=MsoNo
 rmal style="MARGIN: 0in 0in 0pt"><STRONG>"Awake the Creative Genius Within
 : The Secret to Building the Big Idea"</STRONG></DIV></LI></UL> <P class=M
 soNormal style="MARGIN: 0in 0in 0pt"><STRONG>Choose from 58 Professional D
 evelopment Workshops </STRONG><EM>plus</EM> <STRONG>Meet the National Ente
 rtainment Media Panel </STRONG>with Jan Schillay, senior producer, "Live! 
 With Regis and Kelly," Eliana R. Salzhauer, talent executive, "Late Show w
 ith David Letterman," Tommy Crudup, talent executive, "Tony Danza Show"<BR
 >A senior producer, NBC''s the "Today Show," and Moderator: Jeanne Salvato
 re, 2004 PRSA Int''l Conference Host Committee Chair, Vice President Consu
 mer Affairs, Insurance Information Institute.</FONT></P></FONT></div><div>
 --- This iCal file does *NOT* confirm registration.Event details subject t
 o change. ---</div><div>--- Tendenci&reg\; Software by <a href="https://ww
 w.tendenci.com">tendenci.com</a> - The Open Source AMS for Associations --
 -</div>
BEGIN:VALARM
TRIGGER:-PT30M
ACTION:DISPLAY
DESCRIPTION:Reminder
END:VALARM
END:VEVENT
END:VCALENDAR
