BEGIN:VCALENDAR
VERSION:2.0
METHOD:PUBLISH
PRODID:-//Tendenci - The Open Source AMS for Associations//Tendenci Codeba
 se MIMEDIR//EN
BEGIN:VEVENT
DESCRIPTION:--- This iCal file does *NOT* confirm registration.\nEvent det
 ails subject to change. ---\nhttps://www.dpkpr.com/events/26/\n\nEvent Tit
 le: Public Relations Society of America 2004 International Conference\nSta
 rt Date / Time: Oct 26, 2004 00:00 AM US/Central\nLocation: New York Hilto
 n & Towers\nSpeaker: \nGoogle\nhttp://maps.google.com/maps?q=1335+Avenue+o
 f+the+Americas,New York,New York,10019\n\nForecast\nhttp://www.weather.com
 /weather/monthly/10019\n\nTwo Master Classes - Extended, in-depth workshop
 s led by industry experts:\n\n"Crisis and Emergency Risk Communications"\n
 "The Profit Connection"\nChoose from 53 Professional Development Workshops
  plus a Special Issues Session with Alan Hevesi, the Comptroller of the St
 ate of New York:"Corporate and Government Accountability: An "Insider''s V
 iew"and Meet the National News Media Panel with Patrick M. Fitzgibbons, ed
 itor-in-charge, Equities Reuters America, Anne Somerlath, Assistant Busine
 ss Editor &amp\; AP Financial News Chief, Associated Press, Larry Ingrassi
 a, business and financial editor, The New York Times, Eben Shapiro, deputy
  editor personal journal, The Wall Street Journal and Moderator: Burt Wold
 er, President PRSA-NY, head of communications, Mellon Human Resources &amp
 \; Investor Solutions.\n\n--- This iCal file does *NOT* confirm registrati
 on.Event details subject to change. ---\n\n--- By Tendenci - The Open Sour
 ce AMS for Associations ---\n
UID:uid26@dpkpr.com
SUMMARY:Public Relations Society of America 2004 International Conference
DTSTART:20041026T050000Z
DTEND:20041026T223000Z
CLASS:PUBLIC
PRIORITY:5
DTSTAMP:20260423T120721Z
TRANSP:OPAQUE
SEQUENCE:0
LOCATION:New York Hilton & Towers
X-ALT-DESC;FMTTYPE=text/html:<div>--- This iCal file does *NOT* confirm re
 gistration.Event details subject to change. ---</div><h1>Event Title: Publ
 ic Relations Society of America 2004 International Conference</h1><div>htt
 ps://www.dpkpr.com/events/26/</div><br /><div>When: Oct 26, 2004 00:00 AM 
 US/Central</div><div>Speaker: </div><br />New York Hilton & Towers<br />13
 35 Avenue of the Americas<br />New York, New York 10019<br /><div>http://m
 aps.google.com/maps?q=1335+Avenue+of+the+Americas,New York,New York,10019<
 /div><br /><div>Forecast: http://www.weather.com/weather/monthly/10019</di
 v><br /><br /><div><P><FONT face=Arial>Two Master Classes&nbsp\;- Extended
 , in-depth workshops led by industry experts:</FONT></P> <UL> <LI><FONT fa
 ce=Arial><STRONG>"Crisis and Emergency Risk Communications"</STRONG></FONT
 ></LI> <LI><FONT face=Arial><STRONG>"The Profit Connection"</STRONG></FONT
 ></LI></UL> <P><FONT face=Arial><STRONG>Choose from 53 Professional Develo
 pment Workshops </STRONG><EM>plus</EM> a Special Issues Session with </FON
 T><FONT face=Arial><STRONG>Alan Hevesi, the Comptroller of the State of Ne
 w York:<BR>"Corporate and Government Accountability: An "Insider''s View"<
 BR></STRONG><EM>and</EM> <STRONG>Meet the National News Media Panel </STRO
 NG>with Patrick M. Fitzgibbons, editor-in-charge, Equities Reuters America
 , Anne Somerlath, Assistant Business Editor &amp\; AP Financial News Chief
 , <EM>Associated Press, </EM>Larry Ingrassia, business and financial edito
 r, </FONT><FONT face=Arial><EM>The New York Times, </EM>Eben Shapiro, depu
 ty editor personal journal, </FONT><FONT face=Arial><EM>The Wall Street Jo
 urnal </EM>and Moderator: Burt Wolder, President PRSA-NY, head of communic
 ations, Mellon Human Resources &amp\; Investor Solutions.</FONT></P></div>
 <div>--- This iCal file does *NOT* confirm registration.Event details subj
 ect to change. ---</div><div>--- Tendenci&reg\; Software by <a href="https
 ://www.tendenci.com">tendenci.com</a> - The Open Source AMS for Associatio
 ns ---</div>
BEGIN:VALARM
TRIGGER:-PT30M
ACTION:DISPLAY
DESCRIPTION:Reminder
END:VALARM
END:VEVENT
END:VCALENDAR
