BEGIN:VCALENDAR
VERSION:2.0
METHOD:PUBLISH
PRODID:-//Tendenci - The Open Source AMS for Associations//Tendenci Codeba
 se MIMEDIR//EN
BEGIN:VEVENT
DESCRIPTION:--- This iCal file does *NOT* confirm registration.\nEvent det
 ails subject to change. ---\nhttps://www.dpkpr.com/events/27/\n\nEvent Tit
 le: When the World Stopped Hearing...Talking...Listening: Communicating Ac
 ross Great Divides\nStart Date / Time: Jan 27, 2005 08:00 AM US/Eastern\nL
 ocation: United Nations\nSpeaker: \nProgram Overview:\nDifferences and dis
 agreements have too often characterized world conversation in this still-y
 oung 21st century. Continents and countries, those who lead them and those
  who live in them talk but do not engage in dialogue. They hear but do not
  listen. Cultural, religious, political and economic divides lead to messa
 ge and media failures. Can we learn to communicate, in the very best two-w
 ay sense of what makes communication effective? What can be the role of pu
 blic relations in creating greater world dialogue and understanding? \nThi
 s two-day seminar brings together some of today's leading diplomats, schol
 ars, humanitarians and journalists to examine what's wrong with the world 
 communication environment and even more importantly, to offer perspectives
  on how we can create communication successes.\n\n--- This iCal file does 
 *NOT* confirm registration.Event details subject to change. ---\n\n--- By 
 Tendenci - The Open Source AMS for Associations ---\n
UID:uid27@dpkpr.com
SUMMARY:When the World Stopped Hearing...Talking...Listening: Communicating Across Great Divides
DTSTART:20050127T130000Z
DTEND:20050128T223000Z
CLASS:PUBLIC
PRIORITY:5
DTSTAMP:20260423T085610Z
TRANSP:OPAQUE
SEQUENCE:0
LOCATION:United Nations
X-ALT-DESC;FMTTYPE=text/html:<div>--- This iCal file does *NOT* confirm re
 gistration.Event details subject to change. ---</div><h1>Event Title: When
  the World Stopped Hearing...Talking...Listening: Communicating Across Gre
 at Divides</h1><div>https://www.dpkpr.com/events/27/</div><br /><div>When:
  Jan 27, 2005 08:00 AM US/Eastern</div><div>Speaker: </div><br /><div><P><
 STRONG>Program Overview:</STRONG></P> <P>Differences and disagreements hav
 e too often characterized world conversation in this still-young 21st cent
 ury. Continents and countries, those who lead them and those who live in t
 hem talk but do not engage in dialogue. They hear but do not listen. Cultu
 ral, religious, political and economic divides lead to message and media f
 ailures. Can we learn to communicate, in the very best two-way sense of wh
 at makes communication effective? What can be the role of public relations
  in creating greater world dialogue and understanding? </P> <P>This two-da
 y seminar brings together some of today's leading diplomats, scholars, hum
 anitarians and journalists to examine what's wrong with the world communic
 ation environment and even more importantly, to offer perspectives on how 
 we can create communication successes.</P></div><div>--- This iCal file do
 es *NOT* confirm registration.Event details subject to change. ---</div><d
 iv>--- Tendenci&reg\; Software by <a href="https://www.tendenci.com">tende
 nci.com</a> - The Open Source AMS for Associations ---</div>
BEGIN:VALARM
TRIGGER:-PT30M
ACTION:DISPLAY
DESCRIPTION:Reminder
END:VALARM
END:VEVENT
END:VCALENDAR
