BEGIN:VCALENDAR
VERSION:2.0
METHOD:PUBLISH
PRODID:-//Tendenci - The Open Source AMS for Associations//Tendenci Codeba
 se MIMEDIR//EN
BEGIN:VEVENT
DESCRIPTION:--- This iCal file does *NOT* confirm registration.\nEvent det
 ails subject to change. ---\nhttps://www.dpkpr.com/events/28/\n\nEvent Tit
 le: PRSA Houston Board Meeting followed by Luncheon\nStart Date / Time: De
 c 15, 2004 10:30 AM US/Central\nLocation: Bella Terrazza\nSpeaker: \nGoogl
 e\nhttp://maps.google.com/maps?q=2840+Chimney+Rock,Houston,TX\n\nForecast\
 nhttp://www.weather.com/weather/monthly/\n\n \nSay what you want about the
  recent presidential campaign, but you won''t want to miss PRSA''s special
  December 15 meeting to hear what Political Analyst Bob Stein has to say a
 bout it. Professor of political science, researcher, author and TV comment
 ator is bound to have an insight or two to share about a political process
  none of us are soon to forget. Red, blue... however you see the world, yo
 u won''t want to miss this special luncheon. \nPlease call 281-870-1717 to
  sponsor this event.\n\n--- This iCal file does *NOT* confirm registration
 .Event details subject to change. ---\n\n--- By Tendenci - The Open Source
  AMS for Associations ---\n
UID:uid28@dpkpr.com
SUMMARY:PRSA Houston Board Meeting followed by Luncheon
DTSTART:20041215T163000Z
DTEND:20041215T193000Z
CLASS:PUBLIC
PRIORITY:5
DTSTAMP:20260423T160728Z
TRANSP:OPAQUE
SEQUENCE:0
LOCATION:Bella Terrazza
X-ALT-DESC;FMTTYPE=text/html:<div>--- This iCal file does *NOT* confirm re
 gistration.Event details subject to change. ---</div><h1>Event Title: PRSA
  Houston Board Meeting followed by Luncheon</h1><div>https://www.dpkpr.com
 /events/28/</div><br /><div>When: Dec 15, 2004 10:30 AM US/Central</div><d
 iv>Speaker: </div><br />Bella Terrazza<br />2840 Chimney Rock<br />Houston
 , TX<br /><div>http://maps.google.com/maps?q=2840+Chimney+Rock,Houston,TX<
 /div><br /><div>Forecast: http://www.weather.com/weather/monthly/</div><br
  /><br /><div><FONT face=Arial size=1>&nbsp\;</FONT> <P>Say what you want 
 about the recent presidential campaign, but you won''t want to miss PRSA''
 s special December 15 meeting to hear what Political Analyst Bob Stein has
  to say about it. Professor of political science, researcher, author and T
 V commentator is bound to have an insight or two to share about a politica
 l process none of us are soon to forget. Red, blue... however you see the 
 world, you won''t want to miss this special luncheon. </P> <P><FONT face="
 arial, helvetica, sans-serif" size=1>Please call 281-870-1717 to sponsor t
 his event.</FONT></P></div><div>--- This iCal file does *NOT* confirm regi
 stration.Event details subject to change. ---</div><div>--- Tendenci&reg\;
  Software by <a href="https://www.tendenci.com">tendenci.com</a> - The Ope
 n Source AMS for Associations ---</div>
BEGIN:VALARM
TRIGGER:-PT30M
ACTION:DISPLAY
DESCRIPTION:Reminder
END:VALARM
END:VEVENT
END:VCALENDAR
