BEGIN:VCALENDAR
VERSION:2.0
METHOD:PUBLISH
PRODID:-//Tendenci - The Open Source AMS for Associations//Tendenci Codeba
 se MIMEDIR//EN
BEGIN:VEVENT
DESCRIPTION:--- This iCal file does *NOT* confirm registration.\nEvent det
 ails subject to change. ---\nhttps://www.dpkpr.com/events/29/\n\nEvent Tit
 le: Houston Communications Alliance - The Talk of the Town\nStart Date / T
 ime: Dec 08, 2004 18:00 PM US/Central\nLocation: The Dunstan\nSpeaker: \nG
 oogle\nhttp://maps.google.com/maps?q=2415+Dunstan,Houston,TX\n\nForecast\n
 http://www.weather.com/weather/monthly/\n\nWE’RE THE TALK OF THE TOWN!\n
 Join us in a celebration of our newly formed partnership!\nThe Houston Com
 munications Alliance links communicators from AMA Houston, the Houston Adv
 ertising Federation, the Houston Press Club, IABC Houston, PRSA Houston an
 d the Texas Public Relations Association. \nOur mission is to promote part
 nership among leading communications-based organizations in Houston, in or
 der to leverage and promote relevant community events, professional develo
 pment opportunities and cooperation among professionals in the industry.\n
 In the holiday spirit and because we’re all communicators, we will be co
 llecting new or gently used cell phones and/or donations in lieu of admiss
 ion into this event. All donations will be given to the Houston Area Women
 ’s Center to aid victims of domestic and sexual violence in times of tro
 uble.\nCatering by Bailey Connor \nREGISTRATIONTo RSVP for this free event
 , please send an email with your name and the names of your guests to even
 t-yes@houstoncommunicationsalliance.com.\n\n--- This iCal file does *NOT* 
 confirm registration.Event details subject to change. ---\n\n--- By Tenden
 ci - The Open Source AMS for Associations ---\n
UID:uid29@dpkpr.com
SUMMARY:Houston Communications Alliance - The Talk of the Town
DTSTART:20041209T000000Z
DTEND:20041209T020000Z
CLASS:PUBLIC
PRIORITY:5
DTSTAMP:20260423T095530Z
TRANSP:OPAQUE
SEQUENCE:0
LOCATION:The Dunstan
X-ALT-DESC;FMTTYPE=text/html:<div>--- This iCal file does *NOT* confirm re
 gistration.Event details subject to change. ---</div><h1>Event Title: Hous
 ton Communications Alliance - The Talk of the Town</h1><div>https://www.dp
 kpr.com/events/29/</div><br /><div>When: Dec 08, 2004 18:00 PM US/Central<
 /div><div>Speaker: </div><br />The Dunstan<br />2415 Dunstan<br />Houston,
  TX<br /><div>http://maps.google.com/maps?q=2415+Dunstan,Houston,TX</div><
 br /><div>Forecast: http://www.weather.com/weather/monthly/</div><br /><br
  /><div><P><FONT face="arial, helvetica, sans-serif" size=1><STRONG>WE’R
 E THE TALK OF THE TOWN!</STRONG></FONT></P> <P><FONT face="arial, helvetic
 a, sans-serif" size=1>Join us in a celebration of our newly formed partner
 ship!</FONT></P> <P><FONT face="arial, helvetica, sans-serif" size=1>The H
 ouston Communications Alliance links&nbsp\;communicators from AMA Houston,
  the Houston Advertising Federation, the Houston Press Club, IABC Houston,
  PRSA Houston and the Texas Public Relations Association. </FONT></P> <P><
 FONT face="arial, helvetica, sans-serif" size=1>Our mission is&nbsp\;to pr
 omote partnership among leading communications-based organizations in Hous
 ton, in order to leverage and promote relevant community events, professio
 nal development opportunities and cooperation&nbsp\;among professionals in
  the industry.</FONT></P> <P><FONT face="arial, helvetica, sans-serif" siz
 e=1>In the holiday spirit and because we’re all communicators, we will b
 e collecting new or gently used cell phones and/or donations in lieu of ad
 mission into this event. All donations will be given to the Houston Area W
 omen’s Center to aid victims of domestic and sexual violence in times of
  trouble.</FONT></P> <P><FONT face="arial, helvetica, sans-serif" size=1>C
 atering by Bailey Connor </FONT></P> <P><FONT face="arial, helvetica, sans
 -serif" size=1><STRONG>REGISTRATION</STRONG><BR>To RSVP for this free even
 t, please send an email with your name and the names of your guests to </F
 ONT><A href="mailto:event-yes@houstoncommunicationsalliance.com"><FONT fac
 e="arial, helvetica, sans-serif" size=1>event-yes@houstoncommunicationsall
 iance.com</FONT></A><FONT face="arial, helvetica, sans-serif" size=1>.</FO
 NT></P></div><div>--- This iCal file does *NOT* confirm registration.Event
  details subject to change. ---</div><div>--- Tendenci&reg\; Software by <
 a href="https://www.tendenci.com">tendenci.com</a> - The Open Source AMS f
 or Associations ---</div>
BEGIN:VALARM
TRIGGER:-PT30M
ACTION:DISPLAY
DESCRIPTION:Reminder
END:VALARM
END:VEVENT
END:VCALENDAR
