BEGIN:VCALENDAR
VERSION:2.0
METHOD:PUBLISH
PRODID:-//Tendenci - The Open Source AMS for Associations//Tendenci Codeba
 se MIMEDIR//EN
BEGIN:VEVENT
DESCRIPTION:--- This iCal file does *NOT* confirm registration.\nEvent det
 ails subject to change. ---\nhttps://www.dpkpr.com/events/3/\n\nEvent Titl
 e: PRSA Houston Board Meeting\nStart Date / Time: Jan 21, 2004 10:30 AM US
 /Central\nLocation: Houston City Club, Greenway Plaza\nSpeaker: \n\n\n--- 
 This iCal file does *NOT* confirm registration.Event details subject to ch
 ange. ---\n\n--- By Tendenci - The Open Source AMS for Associations ---\n
UID:uid3@dpkpr.com
SUMMARY:PRSA Houston Board Meeting
DTSTART:20040121T163000Z
DTEND:20040121T193000Z
CLASS:PUBLIC
PRIORITY:5
DTSTAMP:20260423T144548Z
TRANSP:OPAQUE
SEQUENCE:0
LOCATION:Houston City Club, Greenway Plaza
X-ALT-DESC;FMTTYPE=text/html:<div>--- This iCal file does *NOT* confirm re
 gistration.Event details subject to change. ---</div><h1>Event Title: PRSA
  Houston Board Meeting</h1><div>https://www.dpkpr.com/events/3/</div><br /
 ><div>When: Jan 21, 2004 10:30 AM US/Central</div><div>Speaker: </div><br 
 /><div></div><div>--- This iCal file does *NOT* confirm registration.Event
  details subject to change. ---</div><div>--- Tendenci&reg\; Software by <
 a href="https://www.tendenci.com">tendenci.com</a> - The Open Source AMS f
 or Associations ---</div>
BEGIN:VALARM
TRIGGER:-PT30M
ACTION:DISPLAY
DESCRIPTION:Reminder
END:VALARM
END:VEVENT
END:VCALENDAR
