BEGIN:VCALENDAR
VERSION:2.0
METHOD:PUBLISH
PRODID:-//Tendenci - The Open Source AMS for Associations//Tendenci Codeba
 se MIMEDIR//EN
BEGIN:VEVENT
DESCRIPTION:--- This iCal file does *NOT* confirm registration.\nEvent det
 ails subject to change. ---\nhttps://www.dpkpr.com/events/5/\n\nEvent Titl
 e: Law & the Media 2004\nStart Date / Time: Feb 21, 2004 08:30 AM US/Centr
 al\nLocation: South Texas College of Law\nSpeaker: \nGoogle\nhttp://maps.g
 oogle.com/maps?q=1303+San+Jacinto,+6th+Floor,Houston,Texas\n\nForecast\nht
 tp://www.weather.com/weather/monthly/\n\n\n\n--- This iCal file does *NOT*
  confirm registration.Event details subject to change. ---\n\n--- By Tende
 nci - The Open Source AMS for Associations ---\n
UID:uid5@dpkpr.com
SUMMARY:Law & the Media 2004
DTSTART:20040221T143000Z
DTEND:20040221T183000Z
CLASS:PUBLIC
PRIORITY:5
DTSTAMP:20260423T120714Z
TRANSP:OPAQUE
SEQUENCE:0
LOCATION:South Texas College of Law
X-ALT-DESC;FMTTYPE=text/html:<div>--- This iCal file does *NOT* confirm re
 gistration.Event details subject to change. ---</div><h1>Event Title: Law 
 & the Media 2004</h1><div>https://www.dpkpr.com/events/5/</div><br /><div>
 When: Feb 21, 2004 08:30 AM US/Central</div><div>Speaker: </div><br />Sout
 h Texas College of Law<br />1303 San Jacinto, 6th Floor<br />Houston, Texa
 s<br /><div>http://maps.google.com/maps?q=1303+San+Jacinto,+6th+Floor,Hous
 ton,Texas</div><br /><div>Forecast: http://www.weather.com/weather/monthly
 /</div><br /><br /><div></div><div>--- This iCal file does *NOT* confirm r
 egistration.Event details subject to change. ---</div><div>--- Tendenci&re
 g\; Software by <a href="https://www.tendenci.com">tendenci.com</a> - The 
 Open Source AMS for Associations ---</div>
BEGIN:VALARM
TRIGGER:-PT30M
ACTION:DISPLAY
DESCRIPTION:Reminder
END:VALARM
END:VEVENT
END:VCALENDAR
