BEGIN:VCALENDAR
VERSION:2.0
METHOD:PUBLISH
PRODID:-//Tendenci - The Open Source AMS for Associations//Tendenci Codeba
 se MIMEDIR//EN
BEGIN:VEVENT
DESCRIPTION:--- This iCal file does *NOT* confirm registration.\nEvent det
 ails subject to change. ---\nhttps://www.dpkpr.com/events/6/\n\nEvent Titl
 e: Business and the Media Day\nStart Date / Time: Feb 12, 2004 08:00 AM US
 /Central\nLocation: Four Seasons Hotel Houston\nSpeaker: \nGoogle\nhttp://
 maps.google.com/maps?q=1300+Lamar,Houston,Texas\n\nForecast\nhttp://www.we
 ather.com/weather/monthly/\n\n\n\n--- This iCal file does *NOT* confirm re
 gistration.Event details subject to change. ---\n\n--- By Tendenci - The O
 pen Source AMS for Associations ---\n
UID:uid6@dpkpr.com
SUMMARY:Business and the Media Day
DTSTART:20040212T140000Z
DTEND:20040212T193000Z
CLASS:PUBLIC
PRIORITY:5
DTSTAMP:20260423T095524Z
TRANSP:OPAQUE
SEQUENCE:0
LOCATION:Four Seasons Hotel Houston
X-ALT-DESC;FMTTYPE=text/html:<div>--- This iCal file does *NOT* confirm re
 gistration.Event details subject to change. ---</div><h1>Event Title: Busi
 ness and the Media Day</h1><div>https://www.dpkpr.com/events/6/</div><br /
 ><div>When: Feb 12, 2004 08:00 AM US/Central</div><div>Speaker: </div><br 
 />Four Seasons Hotel Houston<br />1300 Lamar<br />Houston, Texas<br /><div
 >http://maps.google.com/maps?q=1300+Lamar,Houston,Texas</div><br /><div>Fo
 recast: http://www.weather.com/weather/monthly/</div><br /><br /><div></di
 v><div>--- This iCal file does *NOT* confirm registration.Event details su
 bject to change. ---</div><div>--- Tendenci&reg\; Software by <a href="htt
 ps://www.tendenci.com">tendenci.com</a> - The Open Source AMS for Associat
 ions ---</div>
BEGIN:VALARM
TRIGGER:-PT30M
ACTION:DISPLAY
DESCRIPTION:Reminder
END:VALARM
END:VEVENT
END:VCALENDAR
