BEGIN:VCALENDAR
VERSION:2.0
METHOD:PUBLISH
PRODID:-//Tendenci - The Open Source AMS for Associations//Tendenci Codeba
 se MIMEDIR//EN
BEGIN:VEVENT
DESCRIPTION:--- This iCal file does *NOT* confirm registration.\nEvent det
 ails subject to change. ---\nhttps://www.dpkpr.com/events/8/\n\nEvent Titl
 e: "Constructing" Marketing Strategies in the Real Estate Industry\nStart 
 Date / Time: Mar 05, 2004 11:30 AM US/Central\nLocation: Courses Restauran
 t\nSpeaker: \n\n\n--- This iCal file does *NOT* confirm registration.Event
  details subject to change. ---\n\n--- By Tendenci - The Open Source AMS f
 or Associations ---\n
UID:uid8@dpkpr.com
SUMMARY:"Constructing" Marketing Strategies in the Real Estate Industry
DTSTART:20040305T173000Z
DTEND:20040305T193000Z
CLASS:PUBLIC
PRIORITY:5
DTSTAMP:20260423T120716Z
TRANSP:OPAQUE
SEQUENCE:0
LOCATION:Courses Restaurant
X-ALT-DESC;FMTTYPE=text/html:<div>--- This iCal file does *NOT* confirm re
 gistration.Event details subject to change. ---</div><h1>Event Title: "Con
 structing" Marketing Strategies in the Real Estate Industry</h1><div>https
 ://www.dpkpr.com/events/8/</div><br /><div>When: Mar 05, 2004 11:30 AM US/
 Central</div><div>Speaker: </div><br /><div></div><div>--- This iCal file 
 does *NOT* confirm registration.Event details subject to change. ---</div>
 <div>--- Tendenci&reg\; Software by <a href="https://www.tendenci.com">ten
 denci.com</a> - The Open Source AMS for Associations ---</div>
BEGIN:VALARM
TRIGGER:-PT30M
ACTION:DISPLAY
DESCRIPTION:Reminder
END:VALARM
END:VEVENT
END:VCALENDAR
